BEGIN:VCALENDAR
VERSION:2.0
PRODID: -//Q4 Inc.//EN
METHOD:PUBLISH
BEGIN:VTIMEZONE
TZID:America/New_York
X-LIC-LOCATION:America/New_York
BEGIN:DAYLIGHT
TZOFFSETFROM:-0500
TZOFFSETTO:-0400
TZNAME:EDT
DTSTART:19700308T020000
RRULE:FREQ=YEARLY;BYMONTH=3;BYDAY=2SU
END:DAYLIGHT
BEGIN:STANDARD
TZOFFSETFROM:-0400
TZOFFSETTO:-0500
TZNAME:EST
DTSTART:19701101T020000
RRULE:FREQ=YEARLY;BYMONTH=11;BYDAY=1SU
END:STANDARD
END:VTIMEZONE
BEGIN:VEVENT
ORGANIZER:MAILTO:IR@DHIGROUPINC.COM
DTSTART;TZID="America/New_York":20210805T170000
DTEND;TZID="America/New_York":20210805T180000
LOCATION:
UID:770ba273-44bb-4121-b174-93346609f24f
DTSTAMP:20260421T163518
SUMMARY:Q2 2021 DHI Group, Inc. Earnings Conference Call
DESCRIPTION: View More Information: https://dhigroupinc.com/investors/event-details/2021/Q2-2021-DHI-Group-Inc-Earnings-Conference-Call/default.aspx
URL;VALUE=URI:https://dhigroupinc.com/investors/event-details/2021/Q2-2021-DHI-Group-Inc-Earnings-Conference-Call/default.aspx
PRIORITY:5
CLASS:PUBLIC
END:VEVENT
END:VCALENDAR
